BEGIN:VCALENDAR
VERSION:2.0
PRODID:-//Wine Women &amp; Shoes - ECPv6.15.20//NONSGML v1.0//EN
CALSCALE:GREGORIAN
METHOD:PUBLISH
X-ORIGINAL-URL:https://www.winewomenandshoes.com
X-WR-CALDESC:Events for Wine Women &amp; Shoes
REFRESH-INTERVAL;VALUE=DURATION:PT1H
X-Robots-Tag:noindex
X-PUBLISHED-TTL:PT1H
BEGIN:VTIMEZONE
TZID:America/Chicago
BEGIN:DAYLIGHT
TZOFFSETFROM:-0600
TZOFFSETTO:-0500
TZNAME:CDT
DTSTART:20200308T080000
END:DAYLIGHT
BEGIN:STANDARD
TZOFFSETFROM:-0500
TZOFFSETTO:-0600
TZNAME:CST
DTSTART:20201101T070000
END:STANDARD
BEGIN:DAYLIGHT
TZOFFSETFROM:-0600
TZOFFSETTO:-0500
TZNAME:CDT
DTSTART:20210314T080000
END:DAYLIGHT
BEGIN:STANDARD
TZOFFSETFROM:-0500
TZOFFSETTO:-0600
TZNAME:CST
DTSTART:20211107T070000
END:STANDARD
BEGIN:DAYLIGHT
TZOFFSETFROM:-0600
TZOFFSETTO:-0500
TZNAME:CDT
DTSTART:20220313T080000
END:DAYLIGHT
BEGIN:STANDARD
TZOFFSETFROM:-0500
TZOFFSETTO:-0600
TZNAME:CST
DTSTART:20221106T070000
END:STANDARD
END:VTIMEZONE
BEGIN:VEVENT
DTSTART;TZID=America/Chicago:20210422T180000
DTEND;TZID=America/Chicago:20210422T210000
DTSTAMP:20260419T141851
CREATED:20200730T052320Z
LAST-MODIFIED:20210726T181701Z
UID:19811-1619114400-1619125200@www.winewomenandshoes.com
SUMMARY:Abilene\, TX 2021
DESCRIPTION:Buy Tickets\n\nContact\nToni Brockway\ntoni@afwconline.org \n\nBecome a Sponsor\n\n\n\nSponsors\nPresenting Sponsors \n\n\n  \n\n\n\nAV Sponsor \n \n\nGolden Heels Sponsors \n\n  \n\n\n\n\nSilver Slippers Sponsors \n \nThe Sawyers\nFamily\n\n\n\n\nThe Dian Graves Owen Foundation\n\n  \n\nBronze Pumps Sponsor \nGay Beitscher\n\n\n\n  \n\nCopper Flats Sponsor \n  \n  \n\n  \n  \nRomona Brogan\nReMax of Abilene \n\n  \n\n\n\nFashion Show Sponsor \n\nWine Glass Sponsor \n \nSole Men Sponsor \n \n  \n\nSwag Bag Sponsor \n \nKey to the Closet Sponsor \n \n\n\nDessert Sponsor \n \nHydration Station Sponsor \n \n\nMirror Mirror Sponsor \n \nBest Dressed Award Sponsor \n \nBest in Shoe Sponsor \nJeff & Nichole Casey\nSpa Sponsor \n \n\nMarketplace Partners\n\n\n\n\n\n\n\n\n\nWINE Partners\n  \n\nShop this link: 10% off 6 bottles\, 20% off 12 bottles! \n \n  \n\n  \n\n\n  \n\n  \n\n\n\n\n 
URL:https://www.winewomenandshoes.com/event/abilene2021/
LOCATION:Abilene\, TX\, Abilene\, TX\, United States
END:VEVENT
END:VCALENDAR