BEGIN:VCALENDAR
VERSION:2.0
PRODID:-//Wine Women &amp; Shoes - ECPv6.15.20//NONSGML v1.0//EN
CALSCALE:GREGORIAN
METHOD:PUBLISH
X-WR-CALNAME:Wine Women &amp; Shoes
X-ORIGINAL-URL:https://www.winewomenandshoes.com
X-WR-CALDESC:Events for Wine Women &amp; Shoes
REFRESH-INTERVAL;VALUE=DURATION:PT1H
X-Robots-Tag:noindex
X-PUBLISHED-TTL:PT1H
BEGIN:VTIMEZONE
TZID:America/New_York
BEGIN:DAYLIGHT
TZOFFSETFROM:-0500
TZOFFSETTO:-0400
TZNAME:EDT
DTSTART:20150308T070000
END:DAYLIGHT
BEGIN:STANDARD
TZOFFSETFROM:-0400
TZOFFSETTO:-0500
TZNAME:EST
DTSTART:20151101T060000
END:STANDARD
BEGIN:DAYLIGHT
TZOFFSETFROM:-0500
TZOFFSETTO:-0400
TZNAME:EDT
DTSTART:20160313T070000
END:DAYLIGHT
BEGIN:STANDARD
TZOFFSETFROM:-0400
TZOFFSETTO:-0500
TZNAME:EST
DTSTART:20161106T060000
END:STANDARD
BEGIN:DAYLIGHT
TZOFFSETFROM:-0500
TZOFFSETTO:-0400
TZNAME:EDT
DTSTART:20170312T070000
END:DAYLIGHT
BEGIN:STANDARD
TZOFFSETFROM:-0400
TZOFFSETTO:-0500
TZNAME:EST
DTSTART:20171105T060000
END:STANDARD
END:VTIMEZONE
BEGIN:VEVENT
DTSTART;TZID=America/New_York:20161020T173000
DTEND;TZID=America/New_York:20161020T213000
DTSTAMP:20260421T040012
CREATED:20160510T004134Z
LAST-MODIFIED:20170410T193930Z
UID:117-1476984600-1476999000@www.winewomenandshoes.com
SUMMARY:Auburn\, AL 2016
DESCRIPTION:Buy Tickets \n\nBecome a Sponsor\n\nContact\nMandy Finklea\n(334) 528-2111\nEmail  \n\n \n\nPlatinum Presenting Sponsor\n \n\nDiamond Presenting Sponsor\n\n\n\n\nFashion Partners\n\n\n\n\n\nWine Partners\n\n\n\n\n\n\n\n\n\nCulinary Partners
URL:https://www.winewomenandshoes.com/event/eamcf2016/
LOCATION:Moore’s Mills Club\, 1957 Fairway Dr\, Auburn\, AL\, 36830\, United States
END:VEVENT
END:VCALENDAR