BEGIN:VCALENDAR
VERSION:2.0
PRODID:-//Wine Women &amp; Shoes - ECPv6.15.20//NONSGML v1.0//EN
CALSCALE:GREGORIAN
METHOD:PUBLISH
X-WR-CALNAME:Wine Women &amp; Shoes
X-ORIGINAL-URL:https://www.winewomenandshoes.com
X-WR-CALDESC:Events for Wine Women &amp; Shoes
REFRESH-INTERVAL;VALUE=DURATION:PT1H
X-Robots-Tag:noindex
X-PUBLISHED-TTL:PT1H
BEGIN:VTIMEZONE
TZID:America/Chicago
BEGIN:DAYLIGHT
TZOFFSETFROM:-0600
TZOFFSETTO:-0500
TZNAME:CDT
DTSTART:20160313T080000
END:DAYLIGHT
BEGIN:STANDARD
TZOFFSETFROM:-0500
TZOFFSETTO:-0600
TZNAME:CST
DTSTART:20161106T070000
END:STANDARD
BEGIN:DAYLIGHT
TZOFFSETFROM:-0600
TZOFFSETTO:-0500
TZNAME:CDT
DTSTART:20170312T080000
END:DAYLIGHT
BEGIN:STANDARD
TZOFFSETFROM:-0500
TZOFFSETTO:-0600
TZNAME:CST
DTSTART:20171105T070000
END:STANDARD
BEGIN:DAYLIGHT
TZOFFSETFROM:-0600
TZOFFSETTO:-0500
TZNAME:CDT
DTSTART:20180311T080000
END:DAYLIGHT
BEGIN:STANDARD
TZOFFSETFROM:-0500
TZOFFSETTO:-0600
TZNAME:CST
DTSTART:20181104T070000
END:STANDARD
END:VTIMEZONE
BEGIN:VEVENT
DTSTART;TZID=America/Chicago:20170330T180000
DTEND;TZID=America/Chicago:20170330T210000
DTSTAMP:20260420T201631
CREATED:20160921T205818Z
LAST-MODIFIED:20171002T205428Z
UID:1451-1490896800-1490907600@www.winewomenandshoes.com
SUMMARY:Mobile\, AL 2017
DESCRIPTION: \nTickets are now on sale! \nBuy Tickets \n\nContact:\nAdministrative Office\ninfo@camprapahope.org\nTel: (251) 476-9880  \n\n \n\nPresenting Sponsor\n \n\n  \nOur Generous Sponsors\n\n\n \n \n\n\n\n \n\n \n\n\n \n\nFelicia Beth Stella\, M.D.\n\n\n\n\n\n\n\n\n\n \nRoberta & Ron Swain\n\n\n\n\nLacoste Investments\n\nMarketplace Partners\n\n\n \n\n\n\n\n\nCulinary Partners\n\n\n\n \n\n\n\n\n \n\n  \nWine Partners
URL:https://www.winewomenandshoes.com/event/mobile2017/
LOCATION:Alabama Contemporary Art Center\, 301 Conti St\, Mobile\, AL\, 36602\, United States
END:VEVENT
END:VCALENDAR