BEGIN:VCALENDAR
VERSION:2.0
PRODID:-//Wine Women &amp; Shoes - ECPv6.15.20//NONSGML v1.0//EN
CALSCALE:GREGORIAN
METHOD:PUBLISH
X-ORIGINAL-URL:https://www.winewomenandshoes.com
X-WR-CALDESC:Events for Wine Women &amp; Shoes
REFRESH-INTERVAL;VALUE=DURATION:PT1H
X-Robots-Tag:noindex
X-PUBLISHED-TTL:PT1H
BEGIN:VTIMEZONE
TZID:America/Chicago
BEGIN:DAYLIGHT
TZOFFSETFROM:-0600
TZOFFSETTO:-0500
TZNAME:CDT
DTSTART:20160313T080000
END:DAYLIGHT
BEGIN:STANDARD
TZOFFSETFROM:-0500
TZOFFSETTO:-0600
TZNAME:CST
DTSTART:20161106T070000
END:STANDARD
BEGIN:DAYLIGHT
TZOFFSETFROM:-0600
TZOFFSETTO:-0500
TZNAME:CDT
DTSTART:20170312T080000
END:DAYLIGHT
BEGIN:STANDARD
TZOFFSETFROM:-0500
TZOFFSETTO:-0600
TZNAME:CST
DTSTART:20171105T070000
END:STANDARD
BEGIN:DAYLIGHT
TZOFFSETFROM:-0600
TZOFFSETTO:-0500
TZNAME:CDT
DTSTART:20180311T080000
END:DAYLIGHT
BEGIN:STANDARD
TZOFFSETFROM:-0500
TZOFFSETTO:-0600
TZNAME:CST
DTSTART:20181104T070000
END:STANDARD
END:VTIMEZONE
BEGIN:VEVENT
DTSTART;VALUE=DATE:20170413
DTEND;VALUE=DATE:20170414
DTSTAMP:20260420T184019
CREATED:20160921T210216Z
LAST-MODIFIED:20250826T212430Z
UID:1461-1492041600-1492127999@www.winewomenandshoes.com
SUMMARY:Birmingham\, AL 2017
DESCRIPTION:buy tickets\nGeneral: $125\nTable of Ten: $1\,250\nVIP: $175\nVIP Table of Ten: $1\,750\n\n\n\nCONTACT\nAmanda Robinson\n(205) 715-5021\nEMAIL\n\n\n\nSponsorships\n\n\n\nMeet our Emcee!\n\n\n\n\n\n\n\nPresenting Sponsor\n\n\n\nOur Generous Sponsors\n\n\n\n\n\n\n\n\n\n\n\n\n  \n\n\n\n\n\n\n\n\n\n\nmedia partner \n \n\n\n\n\n \n\n\nFASHION PARTNERS\n\n\n\n\n\n\n\n\n\n\n\n\n\n\n\n\n\n\n\nWINE PARTNERS\n\n\n\n\n\n\n\n\n\n\n\n\n\n\n\n\n\n\n\n\n\n \n\n 
URL:https://www.winewomenandshoes.com/event/birmingham-al-2017/
LOCATION:The Club\, 1 Robert S Smith Dr\, Birmingham\, AL\, 35209\, United States
END:VEVENT
END:VCALENDAR