BEGIN:VCALENDAR
VERSION:2.0
PRODID:-//Wine Women &amp; Shoes - ECPv6.15.20//NONSGML v1.0//EN
CALSCALE:GREGORIAN
METHOD:PUBLISH
X-ORIGINAL-URL:https://www.winewomenandshoes.com
X-WR-CALDESC:Events for Wine Women &amp; Shoes
REFRESH-INTERVAL;VALUE=DURATION:PT1H
X-Robots-Tag:noindex
X-PUBLISHED-TTL:PT1H
BEGIN:VTIMEZONE
TZID:America/Los_Angeles
BEGIN:DAYLIGHT
TZOFFSETFROM:-0800
TZOFFSETTO:-0700
TZNAME:PDT
DTSTART:20160313T100000
END:DAYLIGHT
BEGIN:STANDARD
TZOFFSETFROM:-0700
TZOFFSETTO:-0800
TZNAME:PST
DTSTART:20161106T090000
END:STANDARD
BEGIN:DAYLIGHT
TZOFFSETFROM:-0800
TZOFFSETTO:-0700
TZNAME:PDT
DTSTART:20170312T100000
END:DAYLIGHT
BEGIN:STANDARD
TZOFFSETFROM:-0700
TZOFFSETTO:-0800
TZNAME:PST
DTSTART:20171105T090000
END:STANDARD
BEGIN:DAYLIGHT
TZOFFSETFROM:-0800
TZOFFSETTO:-0700
TZNAME:PDT
DTSTART:20180311T100000
END:DAYLIGHT
BEGIN:STANDARD
TZOFFSETFROM:-0700
TZOFFSETTO:-0800
TZNAME:PST
DTSTART:20181104T090000
END:STANDARD
END:VTIMEZONE
BEGIN:VEVENT
DTSTART;TZID=America/Los_Angeles:20171019T173000
DTEND;TZID=America/Los_Angeles:20171019T213000
DTSTAMP:20260420T085127
CREATED:20161102T033050Z
LAST-MODIFIED:20171201T042227Z
UID:2678-1508434200-1508448600@www.winewomenandshoes.com
SUMMARY:Auburn\, AL 2017
DESCRIPTION:buy tickets!\n\nCONTACT\nMandy Finklea\nEMAIL \nMimi Martin\nEMAIL \n\n \n\nPlatinum Presenting Sponsor\n \n\nGold Sponsor\n\n\n\n\n\nDiamond Sponsors\n\n\n  \n\n\n\n \nShoe Guy Sponsor \n  \n \nSwag Bag Sponsor \n  \n \nSwag Bag Sponsor \n \nValet Sponsor \n\n \nShoe Closet Sponsor \n \nShoe Closet Sponsor \n  \n \nNon-Alcoholic Beverage Sponsor \n  \n  \n \nFashion Show Sponsor \n\nSilver Stiletto Sponsors\n\n\n\n\n\n\n\n\n  \n\n\n\n \n\n \n \n \n \n\n\n\n \n\nBill and Martha Scott | Mike & Susan Hubbard | Al & Dudley Cook | True40 | Dr. & Mrs. Joel Pittard \n J. Smith Lanier | Jerry & Donna Mattson | Dr. Steven & Mrs. Leanne Presley | Laura Grill \n\nCustom Sponsor\nMrs. Becky Carroll\n\nPower Pump\nMario Scarlata  |  River Bank & Trust  |  State Farm – Kathy Powell Agency \n\nWine Partners\n  \n\n\n\n\n\n\n \n  \n  \nSaveSave \nSaveSave \nSaveSaveSaveSave \nSaveSave \nSaveSave \nSaveSave \nSaveSave \nSaveSaveSaveSaveSaveSave \nSaveSave \nSaveSave \nSaveSave
URL:https://www.winewomenandshoes.com/event/eamcf2017/
LOCATION:Auburn\, AL\, United States
END:VEVENT
END:VCALENDAR