BEGIN:VCALENDAR
VERSION:2.0
PRODID:-//Wine Women &amp; Shoes - ECPv6.15.20//NONSGML v1.0//EN
CALSCALE:GREGORIAN
METHOD:PUBLISH
X-WR-CALNAME:Wine Women &amp; Shoes
X-ORIGINAL-URL:https://www.winewomenandshoes.com
X-WR-CALDESC:Events for Wine Women &amp; Shoes
REFRESH-INTERVAL;VALUE=DURATION:PT1H
X-Robots-Tag:noindex
X-PUBLISHED-TTL:PT1H
BEGIN:VTIMEZONE
TZID:America/Los_Angeles
BEGIN:DAYLIGHT
TZOFFSETFROM:-0800
TZOFFSETTO:-0700
TZNAME:PDT
DTSTART:20150308T100000
END:DAYLIGHT
BEGIN:STANDARD
TZOFFSETFROM:-0700
TZOFFSETTO:-0800
TZNAME:PST
DTSTART:20151101T090000
END:STANDARD
BEGIN:DAYLIGHT
TZOFFSETFROM:-0800
TZOFFSETTO:-0700
TZNAME:PDT
DTSTART:20160313T100000
END:DAYLIGHT
BEGIN:STANDARD
TZOFFSETFROM:-0700
TZOFFSETTO:-0800
TZNAME:PST
DTSTART:20161106T090000
END:STANDARD
BEGIN:DAYLIGHT
TZOFFSETFROM:-0800
TZOFFSETTO:-0700
TZNAME:PDT
DTSTART:20170312T100000
END:DAYLIGHT
BEGIN:STANDARD
TZOFFSETFROM:-0700
TZOFFSETTO:-0800
TZNAME:PST
DTSTART:20171105T090000
END:STANDARD
END:VTIMEZONE
BEGIN:VEVENT
DTSTART;TZID=America/Los_Angeles:20161001T140000
DTEND;TZID=America/Los_Angeles:20161001T180000
DTSTAMP:20260419T093441
CREATED:20160510T002219Z
LAST-MODIFIED:20161014T031136Z
UID:102-1475330400-1475344800@www.winewomenandshoes.com
SUMMARY:Bakersfield\, CA 2016
DESCRIPTION:BUY TICKETS!   |   MORE INFO  |  CONTACT 661.631.2272\n \n \nTHANK YOU TO OUR SPONSORS\n\n\n\n\n\n\n\n\n\n\n\n\n\n\n\n\n\n\n\n\n\n\n\n\n\nKen and Teri Jones \n\n\n\n\nWINE PARTNERS
URL:https://www.winewomenandshoes.com/event/casakc/
LOCATION:California
END:VEVENT
END:VCALENDAR