BEGIN:VCALENDAR
VERSION:2.0
PRODID:-//Wine Women &amp; Shoes - ECPv6.15.20//NONSGML v1.0//EN
CALSCALE:GREGORIAN
METHOD:PUBLISH
X-WR-CALNAME:Wine Women &amp; Shoes
X-ORIGINAL-URL:https://www.winewomenandshoes.com
X-WR-CALDESC:Events for Wine Women &amp; Shoes
REFRESH-INTERVAL;VALUE=DURATION:PT1H
X-Robots-Tag:noindex
X-PUBLISHED-TTL:PT1H
BEGIN:VTIMEZONE
TZID:America/New_York
BEGIN:DAYLIGHT
TZOFFSETFROM:-0500
TZOFFSETTO:-0400
TZNAME:EDT
DTSTART:20150308T070000
END:DAYLIGHT
BEGIN:STANDARD
TZOFFSETFROM:-0400
TZOFFSETTO:-0500
TZNAME:EST
DTSTART:20151101T060000
END:STANDARD
BEGIN:DAYLIGHT
TZOFFSETFROM:-0500
TZOFFSETTO:-0400
TZNAME:EDT
DTSTART:20160313T070000
END:DAYLIGHT
BEGIN:STANDARD
TZOFFSETFROM:-0400
TZOFFSETTO:-0500
TZNAME:EST
DTSTART:20161106T060000
END:STANDARD
BEGIN:DAYLIGHT
TZOFFSETFROM:-0500
TZOFFSETTO:-0400
TZNAME:EDT
DTSTART:20170312T070000
END:DAYLIGHT
BEGIN:STANDARD
TZOFFSETFROM:-0400
TZOFFSETTO:-0500
TZNAME:EST
DTSTART:20171105T060000
END:STANDARD
END:VTIMEZONE
BEGIN:VEVENT
DTSTART;TZID=America/New_York:20160924T110000
DTEND;TZID=America/New_York:20160924T150000
DTSTAMP:20260424T004805
CREATED:20160816T172952Z
LAST-MODIFIED:20161115T173212Z
UID:617-1474714800-1474729200@www.winewomenandshoes.com
SUMMARY:Jacksonville\, FL 2016
DESCRIPTION:Buy Tickets \nTables: $1\,500\nIndividual Tickets: $150 \n\nContact\nAshley Strickland\,\nDirector of Community & Donor Engagement\n904.727.9797 ext. 1104\nEmail \n\nView Available Sponsorships  \n\n \n \n\nCheck out this video from last year’s event!\n \n\nOur Generous Sponsors and Supporters\n\n\n\n\n\n\n\n\n\n\n\n\n\n\n\nMarketplace Vendors
URL:https://www.winewomenandshoes.com/event/jacksonville2016/
LOCATION:Jessie Ball duPont Center\, 40 East Adams Street\, Jacksonville\, FL\, 32202\, United States
END:VEVENT
END:VCALENDAR