BEGIN:VCALENDAR
VERSION:2.0
PRODID:-//Wine Women &amp; Shoes - ECPv6.15.20//NONSGML v1.0//EN
CALSCALE:GREGORIAN
METHOD:PUBLISH
X-WR-CALNAME:Wine Women &amp; Shoes
X-ORIGINAL-URL:https://www.winewomenandshoes.com
X-WR-CALDESC:Events for Wine Women &amp; Shoes
REFRESH-INTERVAL;VALUE=DURATION:PT1H
X-Robots-Tag:noindex
X-PUBLISHED-TTL:PT1H
BEGIN:VTIMEZONE
TZID:America/Los_Angeles
BEGIN:DAYLIGHT
TZOFFSETFROM:-0800
TZOFFSETTO:-0700
TZNAME:PDT
DTSTART:20160313T100000
END:DAYLIGHT
BEGIN:STANDARD
TZOFFSETFROM:-0700
TZOFFSETTO:-0800
TZNAME:PST
DTSTART:20161106T090000
END:STANDARD
BEGIN:DAYLIGHT
TZOFFSETFROM:-0800
TZOFFSETTO:-0700
TZNAME:PDT
DTSTART:20170312T100000
END:DAYLIGHT
BEGIN:STANDARD
TZOFFSETFROM:-0700
TZOFFSETTO:-0800
TZNAME:PST
DTSTART:20171105T090000
END:STANDARD
BEGIN:DAYLIGHT
TZOFFSETFROM:-0800
TZOFFSETTO:-0700
TZNAME:PDT
DTSTART:20180311T100000
END:DAYLIGHT
BEGIN:STANDARD
TZOFFSETFROM:-0700
TZOFFSETTO:-0800
TZNAME:PST
DTSTART:20181104T090000
END:STANDARD
END:VTIMEZONE
BEGIN:VTIMEZONE
TZID:America/New_York
BEGIN:DAYLIGHT
TZOFFSETFROM:-0500
TZOFFSETTO:-0400
TZNAME:EDT
DTSTART:20160313T070000
END:DAYLIGHT
BEGIN:STANDARD
TZOFFSETFROM:-0400
TZOFFSETTO:-0500
TZNAME:EST
DTSTART:20161106T060000
END:STANDARD
BEGIN:DAYLIGHT
TZOFFSETFROM:-0500
TZOFFSETTO:-0400
TZNAME:EDT
DTSTART:20170312T070000
END:DAYLIGHT
BEGIN:STANDARD
TZOFFSETFROM:-0400
TZOFFSETTO:-0500
TZNAME:EST
DTSTART:20171105T060000
END:STANDARD
BEGIN:DAYLIGHT
TZOFFSETFROM:-0500
TZOFFSETTO:-0400
TZNAME:EDT
DTSTART:20180311T070000
END:DAYLIGHT
BEGIN:STANDARD
TZOFFSETFROM:-0400
TZOFFSETTO:-0500
TZNAME:EST
DTSTART:20181104T060000
END:STANDARD
END:VTIMEZONE
BEGIN:VEVENT
DTSTART;TZID=America/Los_Angeles:20170311T103000
DTEND;TZID=America/Los_Angeles:20170311T153000
DTSTAMP:20260423T145720
CREATED:20161010T180723Z
LAST-MODIFIED:20170512T183947Z
UID:2146-1489228200-1489246200@www.winewomenandshoes.com
SUMMARY:Palm Beach\, FL 2017
DESCRIPTION:BUY TICKETS \n\nCONTACT\nCall (631) 942-8219 or\nemail Emily DeScalo at\nemily.descalo@bdrr.org \n\nChairs:\nRobin Bernstein\nPeggy Wheeler \nHonoree:\nMolly Fleming \nPast Chairs:\nEmily Pantelides\nZelma Nichols \nInternational Chair: \nHerme de Wyman Miro \nCo-Chair: \nLauree Simmons\nGeri Morrow\n\n\n  \n\nWine Partners
URL:https://www.winewomenandshoes.com/event/bdrr2017/
LOCATION:The Mar-A-Lago Club\, Palm Beach\, 1100 South Ocean Boulevard\, Palm Beach\, FL\, 33480\, United States
END:VEVENT
BEGIN:VEVENT
DTSTART;TZID=America/New_York:20170317T103000
DTEND;TZID=America/New_York:20170317T150000
DTSTAMP:20260423T145720
CREATED:20160921T205023Z
LAST-MODIFIED:20170512T183910Z
UID:166-1489746600-1489762800@www.winewomenandshoes.com
SUMMARY:Miami\, FL 2017
DESCRIPTION:RSVP              Become a sponsor            Photo gallery             Contact us
URL:https://www.winewomenandshoes.com/event/miami2017/
LOCATION:Miami\, FL\, United States
ORGANIZER;CN="Nicklaus Children's Hospital Foundation":MAILTO:marilen.marnett@nicklaushealth.org
END:VEVENT
END:VCALENDAR