BEGIN:VCALENDAR
VERSION:2.0
PRODID:-//Wine Women &amp; Shoes - ECPv6.15.20//NONSGML v1.0//EN
CALSCALE:GREGORIAN
METHOD:PUBLISH
X-WR-CALNAME:Wine Women &amp; Shoes
X-ORIGINAL-URL:https://www.winewomenandshoes.com
X-WR-CALDESC:Events for Wine Women &amp; Shoes
REFRESH-INTERVAL;VALUE=DURATION:PT1H
X-Robots-Tag:noindex
X-PUBLISHED-TTL:PT1H
BEGIN:VTIMEZONE
TZID:America/New_York
BEGIN:DAYLIGHT
TZOFFSETFROM:-0500
TZOFFSETTO:-0400
TZNAME:EDT
DTSTART:20160313T070000
END:DAYLIGHT
BEGIN:STANDARD
TZOFFSETFROM:-0400
TZOFFSETTO:-0500
TZNAME:EST
DTSTART:20161106T060000
END:STANDARD
BEGIN:DAYLIGHT
TZOFFSETFROM:-0500
TZOFFSETTO:-0400
TZNAME:EDT
DTSTART:20170312T070000
END:DAYLIGHT
BEGIN:STANDARD
TZOFFSETFROM:-0400
TZOFFSETTO:-0500
TZNAME:EST
DTSTART:20171105T060000
END:STANDARD
BEGIN:DAYLIGHT
TZOFFSETFROM:-0500
TZOFFSETTO:-0400
TZNAME:EDT
DTSTART:20180311T070000
END:DAYLIGHT
BEGIN:STANDARD
TZOFFSETFROM:-0400
TZOFFSETTO:-0500
TZNAME:EST
DTSTART:20181104T060000
END:STANDARD
END:VTIMEZONE
BEGIN:VEVENT
DTSTART;TZID=America/New_York:20170422T140000
DTEND;TZID=America/New_York:20170422T180000
DTSTAMP:20260423T131755
CREATED:20160922T150831Z
LAST-MODIFIED:20170512T184050Z
UID:1511-1492869600-1492884000@www.winewomenandshoes.com
SUMMARY:Orlando\, FL 2017
DESCRIPTION:Buy tickets!\nGeneral Admission $125 \nVIP $185  SOLD OUT \n\nContact\nMaureen Mikel\n407.514.1006\nEmail \n\nPartnership Opportunities \n\n\n\nPresented by\n\n \n \n \nSponsors\n\n\n\n\n\n  \n\n\n\n\nMarketplace Partners\n\n\n\n\n\n\n\n\n\n\n\n  \n\n \nWine Partners
URL:https://www.winewomenandshoes.com/event/orlando2017/
LOCATION:The Ritz-Carlton Orlando\, 4012 Central Florida Parkway\, Orlando\, FL\, 32837\, United States
ORGANIZER;CN="Second Harvest Food Bank of Central Florida":MAILTO:vjmucha@feedhopenow.org
END:VEVENT
END:VCALENDAR