BEGIN:VCALENDAR
VERSION:2.0
PRODID:-//Wine Women &amp; Shoes - ECPv6.15.20//NONSGML v1.0//EN
CALSCALE:GREGORIAN
METHOD:PUBLISH
X-ORIGINAL-URL:https://www.winewomenandshoes.com
X-WR-CALDESC:Events for Wine Women &amp; Shoes
REFRESH-INTERVAL;VALUE=DURATION:PT1H
X-Robots-Tag:noindex
X-PUBLISHED-TTL:PT1H
BEGIN:VTIMEZONE
TZID:America/Los_Angeles
BEGIN:DAYLIGHT
TZOFFSETFROM:-0800
TZOFFSETTO:-0700
TZNAME:PDT
DTSTART:20180311T100000
END:DAYLIGHT
BEGIN:STANDARD
TZOFFSETFROM:-0700
TZOFFSETTO:-0800
TZNAME:PST
DTSTART:20181104T090000
END:STANDARD
BEGIN:DAYLIGHT
TZOFFSETFROM:-0800
TZOFFSETTO:-0700
TZNAME:PDT
DTSTART:20190310T100000
END:DAYLIGHT
BEGIN:STANDARD
TZOFFSETFROM:-0700
TZOFFSETTO:-0800
TZNAME:PST
DTSTART:20191103T090000
END:STANDARD
BEGIN:DAYLIGHT
TZOFFSETFROM:-0800
TZOFFSETTO:-0700
TZNAME:PDT
DTSTART:20200308T100000
END:DAYLIGHT
BEGIN:STANDARD
TZOFFSETFROM:-0700
TZOFFSETTO:-0800
TZNAME:PST
DTSTART:20201101T090000
END:STANDARD
END:VTIMEZONE
BEGIN:VTIMEZONE
TZID:America/New_York
BEGIN:DAYLIGHT
TZOFFSETFROM:-0500
TZOFFSETTO:-0400
TZNAME:EDT
DTSTART:20180311T070000
END:DAYLIGHT
BEGIN:STANDARD
TZOFFSETFROM:-0400
TZOFFSETTO:-0500
TZNAME:EST
DTSTART:20181104T060000
END:STANDARD
BEGIN:DAYLIGHT
TZOFFSETFROM:-0500
TZOFFSETTO:-0400
TZNAME:EDT
DTSTART:20190310T070000
END:DAYLIGHT
BEGIN:STANDARD
TZOFFSETFROM:-0400
TZOFFSETTO:-0500
TZNAME:EST
DTSTART:20191103T060000
END:STANDARD
BEGIN:DAYLIGHT
TZOFFSETFROM:-0500
TZOFFSETTO:-0400
TZNAME:EDT
DTSTART:20200308T070000
END:DAYLIGHT
BEGIN:STANDARD
TZOFFSETFROM:-0400
TZOFFSETTO:-0500
TZNAME:EST
DTSTART:20201101T060000
END:STANDARD
END:VTIMEZONE
BEGIN:VEVENT
DTSTART;TZID=America/Los_Angeles:20191107T180000
DTEND;TZID=America/Los_Angeles:20191107T220000
DTSTAMP:20260419T092729
CREATED:20190517T192746Z
LAST-MODIFIED:20191214T071653Z
UID:15403-1573149600-1573164000@www.winewomenandshoes.com
SUMMARY:Tampa\, Fl 2019
DESCRIPTION:Contact\n (813)367-5437 Ext 7\n \nemail \n \n\n\n\n\nSpecial Thanks\n \n\n\nWine Partners\n\n\n  \n  \n\n\n\n  \n  \n \n  \n  \n\n  \n\n  \n\n  \n\n\n  \n\n 
URL:https://www.winewomenandshoes.com/event/tampa2019/
LOCATION:Armature Works\, 1910 N Ola Ave\, Tampa\, FL\, 33602\, United States
END:VEVENT
BEGIN:VEVENT
DTSTART;VALUE=DATE:20191114
DTEND;VALUE=DATE:20191117
DTSTAMP:20260419T092729
CREATED:20190206T223532Z
LAST-MODIFIED:20191217T055548Z
UID:13782-1573689600-1573948799@www.winewomenandshoes.com
SUMMARY:Sarasota\, FL 2019
DESCRIPTION:941.365.7716 \n\n\n\n\n2018 website\nSaveSave \nSaveSave
URL:https://www.winewomenandshoes.com/event/fortycarrots2019/
LOCATION:Sarasota\, FL\, Sarasota\, FL\, United States
END:VEVENT
BEGIN:VEVENT
DTSTART;TZID=America/New_York:20191114T183000
DTEND;TZID=America/New_York:20191114T220000
DTSTAMP:20260419T092729
CREATED:20190425T182953Z
LAST-MODIFIED:20231207T164804Z
UID:15241-1573756200-1573768800@www.winewomenandshoes.com
SUMMARY:Vero Beach\, FL 2019
DESCRIPTION:Buy Tickets  \n\nFor More Information\nemail \n\nSupport a Shoe Guy!\nSponsorships \n\n\n \n\nPresenting Sponsor\n \n \nSponsors\n\n\n\n\n \n \n\n \n\n\n \n\n \n\n\n \n\n \n\n \n\n\n\n\n\n\n\nEvent Supporters\n\n \n\n\n\n \n\n\n \n\n \n\n \n\n \n\n \n\n\n\nCulinary Partners\n\n\nDessert Sponsor \n \nAs seen on \n \n\n \n\n\n \n\n\n \n\nMarketplace Partners\n\n\nOur wonderful Marketplace vendors will be selling fantastic items at this year’s event.\n\n\n\n\n 20% of all sales at the event comes right back to the shelter!\n\n \n\n \n\n \n\n\n\n\n\n\n \n\nWine Partners
URL:https://www.winewomenandshoes.com/event/verobeach2019/
LOCATION:Sun Aviation\, 3200 Cherokee Dr\, Vero Beach\, FL\, 32960\, United States
END:VEVENT
END:VCALENDAR