BEGIN:VCALENDAR
VERSION:2.0
PRODID:-//Wine Women &amp; Shoes - ECPv6.15.20//NONSGML v1.0//EN
CALSCALE:GREGORIAN
METHOD:PUBLISH
X-ORIGINAL-URL:https://www.winewomenandshoes.com
X-WR-CALDESC:Events for Wine Women &amp; Shoes
REFRESH-INTERVAL;VALUE=DURATION:PT1H
X-Robots-Tag:noindex
X-PUBLISHED-TTL:PT1H
BEGIN:VTIMEZONE
TZID:America/Los_Angeles
BEGIN:DAYLIGHT
TZOFFSETFROM:-0800
TZOFFSETTO:-0700
TZNAME:PDT
DTSTART:20170312T100000
END:DAYLIGHT
BEGIN:STANDARD
TZOFFSETFROM:-0700
TZOFFSETTO:-0800
TZNAME:PST
DTSTART:20171105T090000
END:STANDARD
BEGIN:DAYLIGHT
TZOFFSETFROM:-0800
TZOFFSETTO:-0700
TZNAME:PDT
DTSTART:20180311T100000
END:DAYLIGHT
BEGIN:STANDARD
TZOFFSETFROM:-0700
TZOFFSETTO:-0800
TZNAME:PST
DTSTART:20181104T090000
END:STANDARD
BEGIN:DAYLIGHT
TZOFFSETFROM:-0800
TZOFFSETTO:-0700
TZNAME:PDT
DTSTART:20190310T100000
END:DAYLIGHT
BEGIN:STANDARD
TZOFFSETFROM:-0700
TZOFFSETTO:-0800
TZNAME:PST
DTSTART:20191103T090000
END:STANDARD
END:VTIMEZONE
BEGIN:VEVENT
DTSTART;VALUE=DATE:20181005
DTEND;VALUE=DATE:20181006
DTSTAMP:20260419T130307
CREATED:20171201T042108Z
LAST-MODIFIED:20180820T171255Z
UID:8259-1538697600-1538783999@www.winewomenandshoes.com
SUMMARY:Fort Worth\, TX 2018
DESCRIPTION:Buy tickets \n\nContact\nMichelle Riffle\n817-446-5454 x245\nemail \n\nThank you to our sponsors\n\n–  Couture  –\n \n\n  \n  \nAnonymous Horned Frog\n–  Diamond Stiletto  –\n\n  \n\n\n\n \n  \nTeresa Paslay • Marion Snipes \n\n–  Blingin’ Boot  –\n\n\n\n\n\n\n\n\n \n\nLisa Gunter • Carley J. Moore • Mr. Alan Shipman \nMartha Williams • Patricia Weskamp Williams • Mrs. Rachel Willis \n\n–  Media Sponsor  –\n\n \n  \n\nWINE PARTNERS\n \n \n \n  \n \n \nSaveSave
URL:https://www.winewomenandshoes.com/event/cisfw/
LOCATION:The 4 Eleven\, 411 S Main\, Fort Worth\, TX\, 76104\, United States
END:VEVENT
END:VCALENDAR