BEGIN:VCALENDAR
VERSION:2.0
PRODID:-//Wine Women &amp; Shoes - ECPv6.15.20//NONSGML v1.0//EN
CALSCALE:GREGORIAN
METHOD:PUBLISH
X-WR-CALNAME:Wine Women &amp; Shoes
X-ORIGINAL-URL:https://www.winewomenandshoes.com
X-WR-CALDESC:Events for Wine Women &amp; Shoes
REFRESH-INTERVAL;VALUE=DURATION:PT1H
X-Robots-Tag:noindex
X-PUBLISHED-TTL:PT1H
BEGIN:VTIMEZONE
TZID:America/Los_Angeles
BEGIN:DAYLIGHT
TZOFFSETFROM:-0800
TZOFFSETTO:-0700
TZNAME:PDT
DTSTART:20210314T100000
END:DAYLIGHT
BEGIN:STANDARD
TZOFFSETFROM:-0700
TZOFFSETTO:-0800
TZNAME:PST
DTSTART:20211107T090000
END:STANDARD
BEGIN:DAYLIGHT
TZOFFSETFROM:-0800
TZOFFSETTO:-0700
TZNAME:PDT
DTSTART:20220313T100000
END:DAYLIGHT
BEGIN:STANDARD
TZOFFSETFROM:-0700
TZOFFSETTO:-0800
TZNAME:PST
DTSTART:20221106T090000
END:STANDARD
BEGIN:DAYLIGHT
TZOFFSETFROM:-0800
TZOFFSETTO:-0700
TZNAME:PDT
DTSTART:20230312T100000
END:DAYLIGHT
BEGIN:STANDARD
TZOFFSETFROM:-0700
TZOFFSETTO:-0800
TZNAME:PST
DTSTART:20231105T090000
END:STANDARD
END:VTIMEZONE
BEGIN:VTIMEZONE
TZID:America/New_York
BEGIN:DAYLIGHT
TZOFFSETFROM:-0500
TZOFFSETTO:-0400
TZNAME:EDT
DTSTART:20210314T070000
END:DAYLIGHT
BEGIN:STANDARD
TZOFFSETFROM:-0400
TZOFFSETTO:-0500
TZNAME:EST
DTSTART:20211107T060000
END:STANDARD
BEGIN:DAYLIGHT
TZOFFSETFROM:-0500
TZOFFSETTO:-0400
TZNAME:EDT
DTSTART:20220313T070000
END:DAYLIGHT
BEGIN:STANDARD
TZOFFSETFROM:-0400
TZOFFSETTO:-0500
TZNAME:EST
DTSTART:20221106T060000
END:STANDARD
BEGIN:DAYLIGHT
TZOFFSETFROM:-0500
TZOFFSETTO:-0400
TZNAME:EDT
DTSTART:20230312T070000
END:DAYLIGHT
BEGIN:STANDARD
TZOFFSETFROM:-0400
TZOFFSETTO:-0500
TZNAME:EST
DTSTART:20231105T060000
END:STANDARD
END:VTIMEZONE
BEGIN:VEVENT
DTSTART;TZID=America/Los_Angeles:20220305T113000
DTEND;TZID=America/Los_Angeles:20220305T150000
DTSTAMP:20260420T195916
CREATED:20211028T020206Z
LAST-MODIFIED:20220603T030828Z
UID:24798-1646479800-1646492400@www.winewomenandshoes.com
SUMMARY:Golden Isles\, GA 2022
DESCRIPTION:Buy Tickets\n\n\n\n\n\n\n\n\nContact\n\n\n\n\nEmail\n\n\n\n\n\n\n\n\n\nLearn more about our organizer\n\n\n\n\n\n\n\n\n\n\nThank you to our wine partners
URL:https://www.winewomenandshoes.com/event/goldenisles2022/
LOCATION:Frederica Golf Club\, 100 Pike's Bluff Drive\, St Simons Island\, Georgia\, 31522\, United States
END:VEVENT
BEGIN:VEVENT
DTSTART;TZID=America/Los_Angeles:20220306T140000
DTEND;TZID=America/Los_Angeles:20220306T180000
DTSTAMP:20260420T195916
CREATED:20200729T063028Z
LAST-MODIFIED:20220602T162049Z
UID:19792-1646575200-1646589600@www.winewomenandshoes.com
SUMMARY:Augusta\, GA 2022
DESCRIPTION:SOLD OUT!\n\n\n\nGeneral Ticket $125General Table $800 \n\n\n\nVIP Ticket $175VIP Table $1200 \n\n\n\n\n\n\n\nCONTACT\n\n\n\nPayton Prather(706) 922-7418 \n\n\n\n\nEmail\n\n\n\n\n\n\n\n\n\nBecome a Sponsor\n\n\n\n\n\n\n\n\n\n\nDiamond Stiletto Presenting Sponsor\n\n\n\n\n\n\n\n\n\n\n\n\n\n\n\n\n\n\n\nPlatinum Pump Sponsor\n\n\n\n\n\n\n\n\n\n\n\n\n\n\n\n\n\n\n\nGold Gladiator Sponsor\n\n\n\n\n\n\n\n\n\n\n\n\n\n\n\n\n\n\n\nSilver Sling Back Sponsor\n\n\n\n\n\n\n\n\n\n\n\n\n\n\n\n\n\n\n\nSupporting Peep Toe Sponsor\n\n\n\n\n\n\n\n\n\n\n\n\n\n\n\n\n\n\n\nMedia Sponsor\n\n\n\n\n\n\n\n\n\n\n\n\n\n\n\n\n\n\n\n\n\n\n\nWine Partners
URL:https://www.winewomenandshoes.com/event/augusta2022/
LOCATION:Augusta Marriott\, 2 10th Street\, Augusta\, GA\, 30901\, United States
END:VEVENT
BEGIN:VEVENT
DTSTART;TZID=America/New_York:20220310T180000
DTEND;TZID=America/New_York:20220310T220000
DTSTAMP:20260420T195916
CREATED:20191216T225131Z
LAST-MODIFIED:20220222T181413Z
UID:17458-1646935200-1646949600@www.winewomenandshoes.com
SUMMARY:Columbus\, GA 2022
DESCRIPTION:Buy Tickets\n\n\n\n\n\n\n\nBecome a Sponsor\n\n\n\n\n\n\nContact US: 706.243.2705   |    Email\n\n\n\n\n\n\n\n\n\n\n\n\n\n\n\n\n\nPlease know we are keeping a close eye on all event recommendations from our state & local health guidelines\, as well as CDC recommendations. We are committed to providing you with a safe environment and meaningful event experience\, all to benefit the Muscogee County Library Foundation. Your support and cooperation means more now than ever. \n\n\n\n\n\n\n\n\n\n\n\nOur Generous Sponsors\n\n\n  \n\n\n\n  \n  \n\n  \n\n\n  \n\n\n\n \nKathy J. Riley\n\nMarketplace Partners\n \n\n\n\n\n\n\n\n\n\n\n\n\n\n\n\n\n\n\n\n\n\n\n\n\n\n\n\n\n\n\n\n\n\n\n\n\n\n\n\n\n\n\n\n\n\n\n\n\n\n\n\nWine Partners
URL:https://www.winewomenandshoes.com/event/columbus/
LOCATION:Columbus Public Library\, 3000 Macon Road\, Columbus\, GA\, 31906\, United States
END:VEVENT
END:VCALENDAR