BEGIN:VCALENDAR
VERSION:2.0
PRODID:-//Wine Women &amp; Shoes - ECPv6.15.20//NONSGML v1.0//EN
CALSCALE:GREGORIAN
METHOD:PUBLISH
X-ORIGINAL-URL:https://www.winewomenandshoes.com
X-WR-CALDESC:Events for Wine Women &amp; Shoes
REFRESH-INTERVAL;VALUE=DURATION:PT1H
X-Robots-Tag:noindex
X-PUBLISHED-TTL:PT1H
BEGIN:VTIMEZONE
TZID:America/Kentucky/Louisville
BEGIN:DAYLIGHT
TZOFFSETFROM:-0500
TZOFFSETTO:-0400
TZNAME:EDT
DTSTART:20180311T070000
END:DAYLIGHT
BEGIN:STANDARD
TZOFFSETFROM:-0400
TZOFFSETTO:-0500
TZNAME:EST
DTSTART:20181104T060000
END:STANDARD
BEGIN:DAYLIGHT
TZOFFSETFROM:-0500
TZOFFSETTO:-0400
TZNAME:EDT
DTSTART:20190310T070000
END:DAYLIGHT
BEGIN:STANDARD
TZOFFSETFROM:-0400
TZOFFSETTO:-0500
TZNAME:EST
DTSTART:20191103T060000
END:STANDARD
BEGIN:DAYLIGHT
TZOFFSETFROM:-0500
TZOFFSETTO:-0400
TZNAME:EDT
DTSTART:20200308T070000
END:DAYLIGHT
BEGIN:STANDARD
TZOFFSETFROM:-0400
TZOFFSETTO:-0500
TZNAME:EST
DTSTART:20201101T060000
END:STANDARD
END:VTIMEZONE
BEGIN:VEVENT
DTSTART;TZID=America/Kentucky/Louisville:20190301T180000
DTEND;TZID=America/Kentucky/Louisville:20190301T213000
DTSTAMP:20260421T085541
CREATED:20180523T045610Z
LAST-MODIFIED:20190607T191751Z
UID:10896-1551463200-1551475800@www.winewomenandshoes.com
SUMMARY:Louisville\, KY 2019
DESCRIPTION:Reservations\nsold out!\n\nRaffle Tickets\nGet your Key to the Closet ticket before they’re gone!\n\nContact\nKellie Johnston \nEmail\n\nSponsorship Opportunities \n\n \n\n–  Presenting Sponsor  –\n \n \n–  Sponsors  –\n\n\n\n\n\n\n\n\n\nSaveSave \nSaveSave \nSaveSave
URL:https://www.winewomenandshoes.com/event/louisville2019/
LOCATION:Louisville\, Louisville\, KY\, United States
END:VEVENT
END:VCALENDAR