BEGIN:VCALENDAR
VERSION:2.0
PRODID:-//Wine Women &amp; Shoes - ECPv6.15.20//NONSGML v1.0//EN
CALSCALE:GREGORIAN
METHOD:PUBLISH
X-ORIGINAL-URL:https://www.winewomenandshoes.com
X-WR-CALDESC:Events for Wine Women &amp; Shoes
REFRESH-INTERVAL;VALUE=DURATION:PT1H
X-Robots-Tag:noindex
X-PUBLISHED-TTL:PT1H
BEGIN:VTIMEZONE
TZID:America/Los_Angeles
BEGIN:DAYLIGHT
TZOFFSETFROM:-0800
TZOFFSETTO:-0700
TZNAME:PDT
DTSTART:20200308T100000
END:DAYLIGHT
BEGIN:STANDARD
TZOFFSETFROM:-0700
TZOFFSETTO:-0800
TZNAME:PST
DTSTART:20201101T090000
END:STANDARD
BEGIN:DAYLIGHT
TZOFFSETFROM:-0800
TZOFFSETTO:-0700
TZNAME:PDT
DTSTART:20210314T100000
END:DAYLIGHT
BEGIN:STANDARD
TZOFFSETFROM:-0700
TZOFFSETTO:-0800
TZNAME:PST
DTSTART:20211107T090000
END:STANDARD
BEGIN:DAYLIGHT
TZOFFSETFROM:-0800
TZOFFSETTO:-0700
TZNAME:PDT
DTSTART:20220313T100000
END:DAYLIGHT
BEGIN:STANDARD
TZOFFSETFROM:-0700
TZOFFSETTO:-0800
TZNAME:PST
DTSTART:20221106T090000
END:STANDARD
END:VTIMEZONE
BEGIN:VEVENT
DTSTART;TZID=America/Los_Angeles:20210305T184500
DTEND;TZID=America/Los_Angeles:20210305T200000
DTSTAMP:20260419T180650
CREATED:20200730T055644Z
LAST-MODIFIED:20210713T172056Z
UID:19819-1614969900-1614974400@www.winewomenandshoes.com
SUMMARY:Louisville\, KY 2021
DESCRIPTION:Join us now!\nKey to the Vault Ticket\nYour chance to win a $10\,000 shopping spree to Merkley Kendrick Jewelers.\nOnline Auction\n\nContact\nKellie Johnston Moore \nEmail\n\n–  Presenting Sponsor  –\n \n \n–  Sponsors  –\n  \n\n  \n\n  \n\n\n\n\n \n\n\n–  Marketplace Partners  –\nShop Now! \n\n\n\n\n  \n\n  \n\n\n\n\n  \n\n\n\n\n–  Wine Partners  –
URL:https://www.winewomenandshoes.com/event/louisville2021/
LOCATION:Virtual\, CA\, United States
END:VEVENT
END:VCALENDAR