BEGIN:VCALENDAR
VERSION:2.0
PRODID:-//Wine Women &amp; Shoes - ECPv6.15.20//NONSGML v1.0//EN
CALSCALE:GREGORIAN
METHOD:PUBLISH
X-WR-CALNAME:Wine Women &amp; Shoes
X-ORIGINAL-URL:https://www.winewomenandshoes.com
X-WR-CALDESC:Events for Wine Women &amp; Shoes
REFRESH-INTERVAL;VALUE=DURATION:PT1H
X-Robots-Tag:noindex
X-PUBLISHED-TTL:PT1H
BEGIN:VTIMEZONE
TZID:America/Los_Angeles
BEGIN:DAYLIGHT
TZOFFSETFROM:-0800
TZOFFSETTO:-0700
TZNAME:PDT
DTSTART:20180311T100000
END:DAYLIGHT
BEGIN:STANDARD
TZOFFSETFROM:-0700
TZOFFSETTO:-0800
TZNAME:PST
DTSTART:20181104T090000
END:STANDARD
BEGIN:DAYLIGHT
TZOFFSETFROM:-0800
TZOFFSETTO:-0700
TZNAME:PDT
DTSTART:20190310T100000
END:DAYLIGHT
BEGIN:STANDARD
TZOFFSETFROM:-0700
TZOFFSETTO:-0800
TZNAME:PST
DTSTART:20191103T090000
END:STANDARD
BEGIN:DAYLIGHT
TZOFFSETFROM:-0800
TZOFFSETTO:-0700
TZNAME:PDT
DTSTART:20200308T100000
END:DAYLIGHT
BEGIN:STANDARD
TZOFFSETFROM:-0700
TZOFFSETTO:-0800
TZNAME:PST
DTSTART:20201101T090000
END:STANDARD
END:VTIMEZONE
BEGIN:VEVENT
DTSTART;VALUE=DATE:20190430
DTEND;VALUE=DATE:20190501
DTSTAMP:20260420T094447
CREATED:20180523T051750Z
LAST-MODIFIED:20190607T202414Z
UID:10916-1556582400-1556668799@www.winewomenandshoes.com
SUMMARY:Midland\, TX 2019
DESCRIPTION:  \n \n\nUnderwriting & Donations\n\nLive Auction Brochure\n\nContact\nLauren Blackketter\n(432) 210-6888\nE-mail \n\n–  Presenting Sponsor  –\nVicky and S. Javaid Anwar\n\n–  Diamond Sponsor  –\n  \n \n  \n\n\n–  Platinum Sponsors  –\n  \n\n  \n\n\n\nHancock Resources \n\n\n–  Gold Sponsors  –\n  \n\n\n  \n\n  \n\n  \n\n\n  \n\n\n\n  \n  \n \n\n \n  \n\n\n \nLong-Weaver and Manning LLP  •  Josh & Cori Sparks \n\n\n–  Silver Sponsors  –\n\n\n\n\n\n  \n\n\n\n\n\n\nBrianna Bertelson & Evelyn Serrano • Allison & David Eyler • Great Western Drilling Company\nPeggy’s Golf Girls – in Memory of Peggy Worthington • Carley and Murray Dighans \n\n\n–  Bronze Sponsors  –\n\n\n\n\n\n\n\nBrenda & Jimmy Smith • Martie Gunter • Angelle & Donohue Oil & Gas Properties Inc • Energy Sales \n\n\n–  Underwriters  –\n  \n\n  \n\n\n\n  \n\n\n\n\n  \n\n\n \n\n\n\nJohn & Patty Lowery • Hard Rock Energy/ Tammy and Bill Smith • Lauren and David Blackketter\nAmy & Blake Pitcock • Hameline & Eccleston • Greg & Melissa McCabe • Ellen K. Ramsey • Midland Pipe & Equipment\nMary B. Kennedy • Sharon Farmer • Temple Beth El Sisterhood • CJ & Amanda Edgmon • Red Beard Capital • Kate & Travis Sartain • Diane Brown\nFrac Spyder LLC • Larry D. Hatfield • JD and Venita Faircloth • Brenda Harrison • Carole Hinkle • Andy and Toyah Bell • Lucky Family of Excellence\nJessica Pontiff • Stubbeman McRae Sealy Laughlin & Browder\, Inc • Lyn Fishman • Peissel Law Firm LLP \n\n– Special Thanks to-\n\n\n\n\n  \n\n–  MARKETPLACE PARTNERS  –\n \n\n\n\n \n\n\nMy Soul to Keep\n  \n\n–  WINE PARTNERS  –\n  \n \n  \n \n \n  \n \n  \n \n  \n \n \n  \n  \n \n \n \n \n 
URL:https://www.winewomenandshoes.com/event/midland2019/
LOCATION:Midland\, Midland\, TX\, United States
END:VEVENT
END:VCALENDAR