BEGIN:VCALENDAR
VERSION:2.0
PRODID:-//Wine Women &amp; Shoes - ECPv6.15.20//NONSGML v1.0//EN
CALSCALE:GREGORIAN
METHOD:PUBLISH
X-ORIGINAL-URL:https://www.winewomenandshoes.com
X-WR-CALDESC:Events for Wine Women &amp; Shoes
REFRESH-INTERVAL;VALUE=DURATION:PT1H
X-Robots-Tag:noindex
X-PUBLISHED-TTL:PT1H
BEGIN:VTIMEZONE
TZID:America/Los_Angeles
BEGIN:DAYLIGHT
TZOFFSETFROM:-0800
TZOFFSETTO:-0700
TZNAME:PDT
DTSTART:20170312T100000
END:DAYLIGHT
BEGIN:STANDARD
TZOFFSETFROM:-0700
TZOFFSETTO:-0800
TZNAME:PST
DTSTART:20171105T090000
END:STANDARD
BEGIN:DAYLIGHT
TZOFFSETFROM:-0800
TZOFFSETTO:-0700
TZNAME:PDT
DTSTART:20180311T100000
END:DAYLIGHT
BEGIN:STANDARD
TZOFFSETFROM:-0700
TZOFFSETTO:-0800
TZNAME:PST
DTSTART:20181104T090000
END:STANDARD
BEGIN:DAYLIGHT
TZOFFSETFROM:-0800
TZOFFSETTO:-0700
TZNAME:PDT
DTSTART:20190310T100000
END:DAYLIGHT
BEGIN:STANDARD
TZOFFSETFROM:-0700
TZOFFSETTO:-0800
TZNAME:PST
DTSTART:20191103T090000
END:STANDARD
END:VTIMEZONE
BEGIN:VEVENT
DTSTART;TZID=America/Los_Angeles:20181019T110000
DTEND;TZID=America/Los_Angeles:20181019T150000
DTSTAMP:20260421T073304
CREATED:20171207T221227Z
LAST-MODIFIED:20190520T062807Z
UID:8323-1539946800-1539961200@www.winewomenandshoes.com
SUMMARY:Sanibel/ Fort Myers\, FL 2018
DESCRIPTION:Buy Tickets! \n\nContact\nFCS Foundation\n941.677.7184\nEmail \n\nBecome a Sponsor!  \n\n \n\n–  Our Generous Sponsors  –\nComing Soon! \n–  Wine Partners  –\n \n \n \n \n \nSaveSaveSaveSave \nSaveSave \nSaveSave \nSaveSave \nSaveSave \nSaveSave \nSaveSaveSaveSave \nSaveSave \nSaveSave
URL:https://www.winewomenandshoes.com/event/sanibel2018/
LOCATION:Marriott Resort Sanibel Harbor\, 17260 Harbour Pointe Dr\, Fort Myers\, FL\, 33908\, United States
END:VEVENT
END:VCALENDAR