BEGIN:VCALENDAR
VERSION:2.0
PRODID:-//Wine Women &amp; Shoes - ECPv6.15.20//NONSGML v1.0//EN
CALSCALE:GREGORIAN
METHOD:PUBLISH
X-ORIGINAL-URL:https://www.winewomenandshoes.com
X-WR-CALDESC:Events for Wine Women &amp; Shoes
REFRESH-INTERVAL;VALUE=DURATION:PT1H
X-Robots-Tag:noindex
X-PUBLISHED-TTL:PT1H
BEGIN:VTIMEZONE
TZID:America/New_York
BEGIN:DAYLIGHT
TZOFFSETFROM:-0500
TZOFFSETTO:-0400
TZNAME:EDT
DTSTART:20160313T070000
END:DAYLIGHT
BEGIN:STANDARD
TZOFFSETFROM:-0400
TZOFFSETTO:-0500
TZNAME:EST
DTSTART:20161106T060000
END:STANDARD
BEGIN:DAYLIGHT
TZOFFSETFROM:-0500
TZOFFSETTO:-0400
TZNAME:EDT
DTSTART:20170312T070000
END:DAYLIGHT
BEGIN:STANDARD
TZOFFSETFROM:-0400
TZOFFSETTO:-0500
TZNAME:EST
DTSTART:20171105T060000
END:STANDARD
BEGIN:DAYLIGHT
TZOFFSETFROM:-0500
TZOFFSETTO:-0400
TZNAME:EDT
DTSTART:20180311T070000
END:DAYLIGHT
BEGIN:STANDARD
TZOFFSETFROM:-0400
TZOFFSETTO:-0500
TZNAME:EST
DTSTART:20181104T060000
END:STANDARD
END:VTIMEZONE
BEGIN:VEVENT
DTSTART;TZID=America/New_York:20170312T140000
DTEND;TZID=America/New_York:20170312T180000
DTSTAMP:20260420T062546
CREATED:20161007T210345Z
LAST-MODIFIED:20170911T211153Z
UID:2137-1489327200-1489341600@www.winewomenandshoes.com
SUMMARY:Philadelphia\, PA 2017
DESCRIPTION:  \nBuy Tickets!\nSole Sister $150\nIncludes general admission & a swag bag to take home \nVIP $200\nIncludes VIP admission\, a swag bag to take home plus premier seating & a VIP gift \nVIP Girlfriend Package $700\nIncludes all of the perks of a VIP ticket for 4 \n\nSponsor the Event\n \n \n\n\nOur Sponsors\n  \n \n \n \n\n \n \n\n \n  \n \n \n \n \n  \n\n\n\n \n \n \n \n \n \nWine Partners
URL:https://www.winewomenandshoes.com/event/philadelphia2017/
LOCATION:Merion Cricket Club\, 325 Montgomery Ave\, Haverford\, PA\, 19041\, United States
END:VEVENT
END:VCALENDAR