BEGIN:VCALENDAR
VERSION:2.0
PRODID:-//Wine Women &amp; Shoes - ECPv6.15.20//NONSGML v1.0//EN
CALSCALE:GREGORIAN
METHOD:PUBLISH
X-WR-CALNAME:Wine Women &amp; Shoes
X-ORIGINAL-URL:https://www.winewomenandshoes.com
X-WR-CALDESC:Events for Wine Women &amp; Shoes
REFRESH-INTERVAL;VALUE=DURATION:PT1H
X-Robots-Tag:noindex
X-PUBLISHED-TTL:PT1H
BEGIN:VTIMEZONE
TZID:America/New_York
BEGIN:DAYLIGHT
TZOFFSETFROM:-0500
TZOFFSETTO:-0400
TZNAME:EDT
DTSTART:20160313T070000
END:DAYLIGHT
BEGIN:STANDARD
TZOFFSETFROM:-0400
TZOFFSETTO:-0500
TZNAME:EST
DTSTART:20161106T060000
END:STANDARD
BEGIN:DAYLIGHT
TZOFFSETFROM:-0500
TZOFFSETTO:-0400
TZNAME:EDT
DTSTART:20170312T070000
END:DAYLIGHT
BEGIN:STANDARD
TZOFFSETFROM:-0400
TZOFFSETTO:-0500
TZNAME:EST
DTSTART:20171105T060000
END:STANDARD
BEGIN:DAYLIGHT
TZOFFSETFROM:-0500
TZOFFSETTO:-0400
TZNAME:EDT
DTSTART:20180311T070000
END:DAYLIGHT
BEGIN:STANDARD
TZOFFSETFROM:-0400
TZOFFSETTO:-0500
TZNAME:EST
DTSTART:20181104T060000
END:STANDARD
END:VTIMEZONE
BEGIN:VEVENT
DTSTART;TZID=America/New_York:20170511T170000
DTEND;TZID=America/New_York:20170511T210000
DTSTAMP:20260420T030738
CREATED:20160921T211328Z
LAST-MODIFIED:20171108T203459Z
UID:1483-1494522000-1494536400@www.winewomenandshoes.com
SUMMARY:Reading\, PA 2017
DESCRIPTION:buy tickets!\nGeneral Admission $125 \nVIP Ticket $175 \nVIP Table for 10 $1\,750\nEnjoy all of the perks of a VIP for you and 9 gal pals! \n\nContact\nKate Alley\n(610) 374-4696 ext. 226\nemail \n\nbecome a sponsor! \n\n \n\n\nWine Partners\n\n\n\n\n\n\n\nSaveSave
URL:https://www.winewomenandshoes.com/event/opphouse2017/
LOCATION:Double Tree by Hilton\,  701 Penn Street\, Reading\, PA\, 19601\, United States
END:VEVENT
END:VCALENDAR