BEGIN:VCALENDAR
VERSION:2.0
PRODID:-//Wine Women &amp; Shoes - ECPv6.15.20//NONSGML v1.0//EN
CALSCALE:GREGORIAN
METHOD:PUBLISH
X-WR-CALNAME:Wine Women &amp; Shoes
X-ORIGINAL-URL:https://www.winewomenandshoes.com
X-WR-CALDESC:Events for Wine Women &amp; Shoes
REFRESH-INTERVAL;VALUE=DURATION:PT1H
X-Robots-Tag:noindex
X-PUBLISHED-TTL:PT1H
BEGIN:VTIMEZONE
TZID:America/New_York
BEGIN:DAYLIGHT
TZOFFSETFROM:-0500
TZOFFSETTO:-0400
TZNAME:EDT
DTSTART:20160313T070000
END:DAYLIGHT
BEGIN:STANDARD
TZOFFSETFROM:-0400
TZOFFSETTO:-0500
TZNAME:EST
DTSTART:20161106T060000
END:STANDARD
BEGIN:DAYLIGHT
TZOFFSETFROM:-0500
TZOFFSETTO:-0400
TZNAME:EDT
DTSTART:20170312T070000
END:DAYLIGHT
BEGIN:STANDARD
TZOFFSETFROM:-0400
TZOFFSETTO:-0500
TZNAME:EST
DTSTART:20171105T060000
END:STANDARD
BEGIN:DAYLIGHT
TZOFFSETFROM:-0500
TZOFFSETTO:-0400
TZNAME:EDT
DTSTART:20180311T070000
END:DAYLIGHT
BEGIN:STANDARD
TZOFFSETFROM:-0400
TZOFFSETTO:-0500
TZNAME:EST
DTSTART:20181104T060000
END:STANDARD
END:VTIMEZONE
BEGIN:VEVENT
DTSTART;VALUE=DATE:20170908
DTEND;VALUE=DATE:20170909
DTSTAMP:20260419T201359
CREATED:20160921T211511Z
LAST-MODIFIED:20180522T155325Z
UID:1487-1504828800-1504915199@www.winewomenandshoes.com
SUMMARY:Pittsburgh\, PA 2017
DESCRIPTION:Buy Tickets\n$150 per person\nUpgrade to a themed\ntable for $100\n\nKing of Sole\n\nGallery\n\ncontact us\n \nBronze Ballet Sponsors\n\n\n\n\n\n\nDiamond Dori Sponsors\n\n\n\n\n\nEmerald Espadrille Sponsors\nTwo Anonymous  •  Kim Angiulli  •  Ralene DeBord \n \n\nRuby Slipper\n\n\n\n\n\n  \n\nMarketplace Partners\n\n\n \n\n\n\n\n\n\n\n\n\n\n\n\n\n\n  \nWine Partners\n\n\n\n\n\n\nSaveSave
URL:https://www.winewomenandshoes.com/event/pittsburgh2017/
LOCATION:Fairmont Pittsburgh\, 510 Market street\,\, Pittsburgh\, PA\, 15222\, United States
END:VEVENT
END:VCALENDAR