BEGIN:VCALENDAR
VERSION:2.0
PRODID:-//Wine Women &amp; Shoes - ECPv6.15.20//NONSGML v1.0//EN
CALSCALE:GREGORIAN
METHOD:PUBLISH
X-WR-CALNAME:Wine Women &amp; Shoes
X-ORIGINAL-URL:https://www.winewomenandshoes.com
X-WR-CALDESC:Events for Wine Women &amp; Shoes
REFRESH-INTERVAL;VALUE=DURATION:PT1H
X-Robots-Tag:noindex
X-PUBLISHED-TTL:PT1H
BEGIN:VTIMEZONE
TZID:America/New_York
BEGIN:DAYLIGHT
TZOFFSETFROM:-0500
TZOFFSETTO:-0400
TZNAME:EDT
DTSTART:20170312T070000
END:DAYLIGHT
BEGIN:STANDARD
TZOFFSETFROM:-0400
TZOFFSETTO:-0500
TZNAME:EST
DTSTART:20171105T060000
END:STANDARD
BEGIN:DAYLIGHT
TZOFFSETFROM:-0500
TZOFFSETTO:-0400
TZNAME:EDT
DTSTART:20180311T070000
END:DAYLIGHT
BEGIN:STANDARD
TZOFFSETFROM:-0400
TZOFFSETTO:-0500
TZNAME:EST
DTSTART:20181104T060000
END:STANDARD
BEGIN:DAYLIGHT
TZOFFSETFROM:-0500
TZOFFSETTO:-0400
TZNAME:EDT
DTSTART:20190310T070000
END:DAYLIGHT
BEGIN:STANDARD
TZOFFSETFROM:-0400
TZOFFSETTO:-0500
TZNAME:EST
DTSTART:20191103T060000
END:STANDARD
END:VTIMEZONE
BEGIN:VTIMEZONE
TZID:America/Los_Angeles
BEGIN:DAYLIGHT
TZOFFSETFROM:-0800
TZOFFSETTO:-0700
TZNAME:PDT
DTSTART:20170312T100000
END:DAYLIGHT
BEGIN:STANDARD
TZOFFSETFROM:-0700
TZOFFSETTO:-0800
TZNAME:PST
DTSTART:20171105T090000
END:STANDARD
BEGIN:DAYLIGHT
TZOFFSETFROM:-0800
TZOFFSETTO:-0700
TZNAME:PDT
DTSTART:20180311T100000
END:DAYLIGHT
BEGIN:STANDARD
TZOFFSETFROM:-0700
TZOFFSETTO:-0800
TZNAME:PST
DTSTART:20181104T090000
END:STANDARD
BEGIN:DAYLIGHT
TZOFFSETFROM:-0800
TZOFFSETTO:-0700
TZNAME:PDT
DTSTART:20190310T100000
END:DAYLIGHT
BEGIN:STANDARD
TZOFFSETFROM:-0700
TZOFFSETTO:-0800
TZNAME:PST
DTSTART:20191103T090000
END:STANDARD
END:VTIMEZONE
BEGIN:VEVENT
DTSTART;TZID=America/New_York:20180415T140000
DTEND;TZID=America/New_York:20180415T180000
DTSTAMP:20260419T090212
CREATED:20170419T194058Z
LAST-MODIFIED:20181031T214835Z
UID:5508-1523800800-1523815200@www.winewomenandshoes.com
SUMMARY:Philadelphia\, PA 2018
DESCRIPTION:…. \nBuy Tickets\n\nContact\nKris Levis\n 800.272.3900\n klevis@alz.org  \n\nLook Back at our\n2017 Event HERE! \n 2017 Photos\n\nSole Sister Kit\n \n\nTake a look back at our 2017 event!\n﻿ \n\nOur Sponsors\n\n\n \n \n\n\n\n\n\n\n\n \n\n\n\n\n\n\n\n\n\n\nFashion Show \nPresented by \n\n \nWINE PARTNERS\n\n\n\n\n\n\n\n\n  \n  \nSaveSave \nSaveSave \nSaveSave \nSaveSave \nSaveSave \nSaveSave \nSaveSaveSaveSaveSaveSave \nSaveSave \nSaveSaveSaveSave \nSaveSaveSaveSave \nSaveSave \nSaveSave \nSaveSave
URL:https://www.winewomenandshoes.com/event/philadelphia2018/
LOCATION:Merion Cricket Club\, 325 Montgomery Ave\, Haverford\, PA\, 19041\, United States
END:VEVENT
BEGIN:VEVENT
DTSTART;TZID=America/Los_Angeles:20180419T170000
DTEND;TZID=America/Los_Angeles:20180419T210000
DTSTAMP:20260419T090212
CREATED:20171108T203839Z
LAST-MODIFIED:20181120T010539Z
UID:7955-1524157200-1524171600@www.winewomenandshoes.com
SUMMARY:Reading\, PA 2018
DESCRIPTION:Buy Tickets!\n\nContact\nKate Alley\n(610) 374-4696 ext. 226\nemail  \n\n \n\nTake a look back at our 2017 Wine Women & Shoes and get ready for 2018!\n \n\n  \nPresenting Sponsor\n \n  \nSponsors\n\n\nDr. Albert & Ginny Alley\n\n\n\n \n \n \n\n\n\n\nKaren & John Arnold\n\n\n\n\n \n\n\nWINE PARTNERS\n  \n\n\n\n\n\n\n \n  \n  \nSaveSave \nSaveSave \nSaveSave \nSaveSave \nSaveSave \nSaveSave \nSaveSave \nSaveSave \nSaveSave \nSaveSave \nSaveSave \nSaveSave \nSaveSave \nSaveSave \nSaveSave \nSaveSaveSaveSave \nSaveSave \nSaveSave \nSaveSave
URL:https://www.winewomenandshoes.com/event/opphouse2018/
LOCATION:Double Tree by Hilton\,  701 Penn Street\, Reading\, PA\, 19601\, United States
END:VEVENT
END:VCALENDAR