BEGIN:VCALENDAR
VERSION:2.0
PRODID:-//Wine Women &amp; Shoes - ECPv6.15.20//NONSGML v1.0//EN
CALSCALE:GREGORIAN
METHOD:PUBLISH
X-ORIGINAL-URL:https://www.winewomenandshoes.com
X-WR-CALDESC:Events for Wine Women &amp; Shoes
REFRESH-INTERVAL;VALUE=DURATION:PT1H
X-Robots-Tag:noindex
X-PUBLISHED-TTL:PT1H
BEGIN:VTIMEZONE
TZID:America/Los_Angeles
BEGIN:DAYLIGHT
TZOFFSETFROM:-0800
TZOFFSETTO:-0700
TZNAME:PDT
DTSTART:20190310T100000
END:DAYLIGHT
BEGIN:STANDARD
TZOFFSETFROM:-0700
TZOFFSETTO:-0800
TZNAME:PST
DTSTART:20191103T090000
END:STANDARD
BEGIN:DAYLIGHT
TZOFFSETFROM:-0800
TZOFFSETTO:-0700
TZNAME:PDT
DTSTART:20200308T100000
END:DAYLIGHT
BEGIN:STANDARD
TZOFFSETFROM:-0700
TZOFFSETTO:-0800
TZNAME:PST
DTSTART:20201101T090000
END:STANDARD
BEGIN:DAYLIGHT
TZOFFSETFROM:-0800
TZOFFSETTO:-0700
TZNAME:PDT
DTSTART:20210314T100000
END:DAYLIGHT
BEGIN:STANDARD
TZOFFSETFROM:-0700
TZOFFSETTO:-0800
TZNAME:PST
DTSTART:20211107T090000
END:STANDARD
END:VTIMEZONE
BEGIN:VEVENT
DTSTART;VALUE=DATE:20200913
DTEND;VALUE=DATE:20200914
DTSTAMP:20260420T061614
CREATED:20191122T003159Z
LAST-MODIFIED:20200913T205444Z
UID:17294-1599955200-1600041599@www.winewomenandshoes.com
SUMMARY:San Luis Obispo\, CA 2020
DESCRIPTION:Join our Live Broadcast\nOn Youtube\non Facebook\n\nJoin the Party!\nBid on Auction Items\n\n\nFollow us on Facebook! \n\nFollow us on Instagram! \n\nContact\nStacy Salame\n805.226.5400 \nEmail \n\nGet your watch party today!\n﻿ \n\nSponsors\n \n\n\n \n\n \n\n\n\n\n\n\n\n\n\n\n\n\n  \n\n\n\n\n\nWine Partners\n \n  \n  \n \n  \n \n\n  \n\n  \n \n  \n\n  \n \n  \n\n\n  \n  \n\n\n\n\n\nMarketplace Partners\n\n20% of the proceeds will go back to RISE\nUSE PROMO CODE RISE2020 AT CHECKOUT\n \n  \n\n\n\n  \n\n  \n\n  \n\n\n  \n\n\n\n\n\n\n\n  \n \nsee the leaderboard \n \nMARGIE SALAME\n \nJERSEY NOVY\n \nHEIDI HARMON\n \nASHLEY LeFORGE\n \nMAC MOULTON\n \nMinnie MOULTON\n \nVICTORIA CARRANZA\n \nSeitó BJ\n \nKELSEY WOOD\n \nDAN RIVOIRE\n\n \nMILLIE FISH\n\n \nDAVE POMEROY\n \nDawn Cates
URL:https://www.winewomenandshoes.com/event/rise/
LOCATION:San Luis Obispo\, Broadcast details to come.\, San Luis Obispo\, CA\, United States
ORGANIZER;CN="RISE SLO":MAILTO:ssalame@riseslo.org
END:VEVENT
END:VCALENDAR