BEGIN:VCALENDAR
VERSION:2.0
PRODID:-//Wine Women &amp; Shoes - ECPv6.15.20//NONSGML v1.0//EN
CALSCALE:GREGORIAN
METHOD:PUBLISH
X-WR-CALNAME:Wine Women &amp; Shoes
X-ORIGINAL-URL:https://www.winewomenandshoes.com
X-WR-CALDESC:Events for Wine Women &amp; Shoes
REFRESH-INTERVAL;VALUE=DURATION:PT1H
X-Robots-Tag:noindex
X-PUBLISHED-TTL:PT1H
BEGIN:VTIMEZONE
TZID:America/Los_Angeles
BEGIN:DAYLIGHT
TZOFFSETFROM:-0800
TZOFFSETTO:-0700
TZNAME:PDT
DTSTART:20160313T100000
END:DAYLIGHT
BEGIN:STANDARD
TZOFFSETFROM:-0700
TZOFFSETTO:-0800
TZNAME:PST
DTSTART:20161106T090000
END:STANDARD
BEGIN:DAYLIGHT
TZOFFSETFROM:-0800
TZOFFSETTO:-0700
TZNAME:PDT
DTSTART:20170312T100000
END:DAYLIGHT
BEGIN:STANDARD
TZOFFSETFROM:-0700
TZOFFSETTO:-0800
TZNAME:PST
DTSTART:20171105T090000
END:STANDARD
BEGIN:DAYLIGHT
TZOFFSETFROM:-0800
TZOFFSETTO:-0700
TZNAME:PDT
DTSTART:20180311T100000
END:DAYLIGHT
BEGIN:STANDARD
TZOFFSETFROM:-0700
TZOFFSETTO:-0800
TZNAME:PST
DTSTART:20181104T090000
END:STANDARD
END:VTIMEZONE
BEGIN:VEVENT
DTSTART;TZID=America/Los_Angeles:20171110T170000
DTEND;TZID=America/Los_Angeles:20171110T213000
DTSTAMP:20260421T134728
CREATED:20170103T191509Z
LAST-MODIFIED:20220915T010828Z
UID:3398-1510333200-1510349400@www.winewomenandshoes.com
SUMMARY:Seattle\, WA 2017
DESCRIPTION:Tickets are\n Sold Out!\n\n\n\nLearn More\nDONATE – “King of Sole” Fundraiser\n\n\n\ncontact\nLynn Hoyos  |  425.598.2553\nEmail\n\n\n\n\n\n\n\nThank you to our sponsors\n\n\n\n\n\n\n \n\n\n\n\n\n\n\n \n\n\n\n\n\n\n\n\n\n\n\n\n\n\n\n\n\n\n\n\n\n \n\n\n\n\n\n\n\n\n\nSole Sisters\n\n\n\n\n\n\n\n\n \n\n\n\nElaine Chan\n\n\n\n\n\n\n\n\n\n\n \n\n\n\nMedia Partners\n\n\n\n\n\n\n \n\n\nSip with these \n\nWine Partners\n \n \n \n \n\n\n\n\n\n\n\n\n\nSavor with these \n\nCulinary Partners\n\n\n\n\n\n\n\n\n \n\n\nShop with these \n\nMarketplace Partners\n\n\n\n\n\n\n\n\n\n\n\n\n\n\n\n\n\n\n\n\n\n\n\nFashion Show Partners\n\n\nFashion Show Producer\n\n \nFashion Show DJ\n \n\n\n\n\n\n\n \n \n\n \n \n \n \n \n\n\n\n\n\n\n\n\n\n\n\n\n\n\nSaveSaveSaveSave\n\nSaveSave\n\nSaveSave\n\nSaveSave\n\nSaveSave\n\nSaveSaveSaveSave\n\nSaveSave\n\nSaveSave\n\nSaveSave\n\nSaveSave\n\nSaveSave\n\nSaveSave\n\nSaveSave\n\nSaveSave
URL:https://www.winewomenandshoes.com/event/olivecrestseattle2017/
LOCATION:Fairmont Olympic Hotel\, Seattle\, 411 University St\, Seattle\, WA\, 98101\, United States
END:VEVENT
END:VCALENDAR