BEGIN:VCALENDAR
VERSION:2.0
PRODID:-//Wine Women &amp; Shoes - ECPv6.15.20//NONSGML v1.0//EN
CALSCALE:GREGORIAN
METHOD:PUBLISH
X-ORIGINAL-URL:https://www.winewomenandshoes.com
X-WR-CALDESC:Events for Wine Women &amp; Shoes
REFRESH-INTERVAL;VALUE=DURATION:PT1H
X-Robots-Tag:noindex
X-PUBLISHED-TTL:PT1H
BEGIN:VTIMEZONE
TZID:America/Los_Angeles
BEGIN:DAYLIGHT
TZOFFSETFROM:-0800
TZOFFSETTO:-0700
TZNAME:PDT
DTSTART:20180311T100000
END:DAYLIGHT
BEGIN:STANDARD
TZOFFSETFROM:-0700
TZOFFSETTO:-0800
TZNAME:PST
DTSTART:20181104T090000
END:STANDARD
BEGIN:DAYLIGHT
TZOFFSETFROM:-0800
TZOFFSETTO:-0700
TZNAME:PDT
DTSTART:20190310T100000
END:DAYLIGHT
BEGIN:STANDARD
TZOFFSETFROM:-0700
TZOFFSETTO:-0800
TZNAME:PST
DTSTART:20191103T090000
END:STANDARD
BEGIN:DAYLIGHT
TZOFFSETFROM:-0800
TZOFFSETTO:-0700
TZNAME:PDT
DTSTART:20200308T100000
END:DAYLIGHT
BEGIN:STANDARD
TZOFFSETFROM:-0700
TZOFFSETTO:-0800
TZNAME:PST
DTSTART:20201101T090000
END:STANDARD
END:VTIMEZONE
BEGIN:VEVENT
DTSTART;TZID=America/Los_Angeles:20191101T170000
DTEND;TZID=America/Los_Angeles:20191101T213000
DTSTAMP:20260419T231255
CREATED:20190322T201220Z
LAST-MODIFIED:20191214T065219Z
UID:14588-1572627600-1572643800@www.winewomenandshoes.com
SUMMARY:Seattle\, WA 2019
DESCRIPTION:Buy Tickets\n\nContact\nVENISA FRITTON\n425-598-2561\nEMAIL \n\nsponsorships\n\nDonate to Vote for Your King of Sole! \nVote Now!\n\nThank you to our sponsors\n\n\n\n\n\n\n\n\n\n  \n\nCulinary Partners\n\n\n\n \n\nWine Partners\n  \n\n\n\n  \n\n  \n\n\n\n  \n\nFashion show partners\n\n\n\n  \n\n\nMarketplace Partners\n\n\n  \n\n\n\n\n\n\n 
URL:https://www.winewomenandshoes.com/event/olivecrest2019/
LOCATION:Fairmont Olympic Hotel\, Seattle\, 411 University St\, Seattle\, WA\, 98101\, United States
END:VEVENT
END:VCALENDAR