BEGIN:VCALENDAR
VERSION:2.0
PRODID:-//Wine Women &amp; Shoes - ECPv6.15.20//NONSGML v1.0//EN
CALSCALE:GREGORIAN
METHOD:PUBLISH
X-ORIGINAL-URL:https://www.winewomenandshoes.com
X-WR-CALDESC:Events for Wine Women &amp; Shoes
REFRESH-INTERVAL;VALUE=DURATION:PT1H
X-Robots-Tag:noindex
X-PUBLISHED-TTL:PT1H
BEGIN:VTIMEZONE
TZID:America/New_York
BEGIN:DAYLIGHT
TZOFFSETFROM:-0500
TZOFFSETTO:-0400
TZNAME:EDT
DTSTART:20150308T070000
END:DAYLIGHT
BEGIN:STANDARD
TZOFFSETFROM:-0400
TZOFFSETTO:-0500
TZNAME:EST
DTSTART:20151101T060000
END:STANDARD
BEGIN:DAYLIGHT
TZOFFSETFROM:-0500
TZOFFSETTO:-0400
TZNAME:EDT
DTSTART:20160313T070000
END:DAYLIGHT
BEGIN:STANDARD
TZOFFSETFROM:-0400
TZOFFSETTO:-0500
TZNAME:EST
DTSTART:20161106T060000
END:STANDARD
BEGIN:DAYLIGHT
TZOFFSETFROM:-0500
TZOFFSETTO:-0400
TZNAME:EDT
DTSTART:20170312T070000
END:DAYLIGHT
BEGIN:STANDARD
TZOFFSETFROM:-0400
TZOFFSETTO:-0500
TZNAME:EST
DTSTART:20171105T060000
END:STANDARD
END:VTIMEZONE
BEGIN:VEVENT
DTSTART;TZID=America/New_York:20160925T010000
DTEND;TZID=America/New_York:20160925T160000
DTSTAMP:20260425T184757
CREATED:20160816T181644Z
LAST-MODIFIED:20170417T235806Z
UID:625-1474765200-1474819200@www.winewomenandshoes.com
SUMMARY:Charleston\, SC 2016
DESCRIPTION:Buy Tickets \nVIP Tables: $1\,500\nlimited quantity\nGeneral Admission: $100 \n\nContact\nAmber McCormick\n843-722-7526\nEmail \n\nBecome A Sponsor\nBecome A Shoe Guy  \n\n \n\nTake a look back at our 2014 wine women & shoes event!\n \n \n\nSponsors\n\n\n\n\n\n\n\n\n\n\n\n\n\n\nEvent Partners\n\n\n\n\n\n\n\n\n\n\n\n\n\n\n\n\n\n\n\n\n\n\nThe Tennant Family | Mr. Steve Palmer of The Indigo Road | Design Unwrapd by Cat Walsh Designs \n\nMedia Sponsors\n \n\nFashion Partners\n\n\n\n\n\n\n\n\n\n\n\nWine Partners
URL:https://www.winewomenandshoes.com/event/flocrit2016/
LOCATION:Francis Marion Hotel\, 387 King St\, Charleston\, Charleston\, SC\, 29403\, United States
END:VEVENT
END:VCALENDAR