BEGIN:VCALENDAR
VERSION:2.0
PRODID:-//Wine Women &amp; Shoes - ECPv6.15.20//NONSGML v1.0//EN
CALSCALE:GREGORIAN
METHOD:PUBLISH
X-WR-CALNAME:Wine Women &amp; Shoes
X-ORIGINAL-URL:https://www.winewomenandshoes.com
X-WR-CALDESC:Events for Wine Women &amp; Shoes
REFRESH-INTERVAL;VALUE=DURATION:PT1H
X-Robots-Tag:noindex
X-PUBLISHED-TTL:PT1H
BEGIN:VTIMEZONE
TZID:America/Los_Angeles
BEGIN:DAYLIGHT
TZOFFSETFROM:-0800
TZOFFSETTO:-0700
TZNAME:PDT
DTSTART:20180311T100000
END:DAYLIGHT
BEGIN:STANDARD
TZOFFSETFROM:-0700
TZOFFSETTO:-0800
TZNAME:PST
DTSTART:20181104T090000
END:STANDARD
BEGIN:DAYLIGHT
TZOFFSETFROM:-0800
TZOFFSETTO:-0700
TZNAME:PDT
DTSTART:20190310T100000
END:DAYLIGHT
BEGIN:STANDARD
TZOFFSETFROM:-0700
TZOFFSETTO:-0800
TZNAME:PST
DTSTART:20191103T090000
END:STANDARD
BEGIN:DAYLIGHT
TZOFFSETFROM:-0800
TZOFFSETTO:-0700
TZNAME:PDT
DTSTART:20200308T100000
END:DAYLIGHT
BEGIN:STANDARD
TZOFFSETFROM:-0700
TZOFFSETTO:-0800
TZNAME:PST
DTSTART:20201101T090000
END:STANDARD
END:VTIMEZONE
BEGIN:VEVENT
DTSTART;TZID=America/Los_Angeles:20191001T170000
DTEND;TZID=America/Los_Angeles:20191001T210000
DTSTAMP:20260423T200212
CREATED:20190103T193510Z
LAST-MODIFIED:20210722T022709Z
UID:13171-1569949200-1569963600@www.winewomenandshoes.com
SUMMARY:Springfield\, MO 2019
DESCRIPTION:Buy Tickets!\n\n\n\nContact\nShelly Drymon\n417.863.7273 x112\nemail\n\n\n\nBecome a Sponsor!\n\n\n\n\n\n\nTake a look back at our 2018 event!\n \n\n\n\n\n \nPresented by\n\n\n\n\n \nDiamond Sponsor\n\n \n\n\n \n\n \nSponsors\n\n\n\n\n\n\n \n\n\n\n\n\n\n\n\n\n\n\n\n\n\n\n\n\n \nMarketplace Partners\n\n\n\n\n \n\n\n\n \n\n\n\n\n\n\n\n\n\n\nFashion Show Partners\n\n\n \n\n\n\n\n\n \n\n\nWine Partners\n\n\n\n\n \n\n\n\n \n\n\n\n\n\n\n\n\n\n\n\n\n\n 
URL:https://www.winewomenandshoes.com/event/thevictimcenter2019/
LOCATION:Oasis Hotel & Convention Center\, 2546 N Glenstone Ave\, Springfield\, MO\, 65803\, United States
END:VEVENT
END:VCALENDAR