BEGIN:VCALENDAR
VERSION:2.0
PRODID:-//Wine Women &amp; Shoes - ECPv6.15.20//NONSGML v1.0//EN
CALSCALE:GREGORIAN
METHOD:PUBLISH
X-WR-CALNAME:Wine Women &amp; Shoes
X-ORIGINAL-URL:https://www.winewomenandshoes.com
X-WR-CALDESC:Events for Wine Women &amp; Shoes
REFRESH-INTERVAL;VALUE=DURATION:PT1H
X-Robots-Tag:noindex
X-PUBLISHED-TTL:PT1H
BEGIN:VTIMEZONE
TZID:America/Chicago
BEGIN:DAYLIGHT
TZOFFSETFROM:-0600
TZOFFSETTO:-0500
TZNAME:CDT
DTSTART:20190310T080000
END:DAYLIGHT
BEGIN:STANDARD
TZOFFSETFROM:-0500
TZOFFSETTO:-0600
TZNAME:CST
DTSTART:20191103T070000
END:STANDARD
BEGIN:DAYLIGHT
TZOFFSETFROM:-0600
TZOFFSETTO:-0500
TZNAME:CDT
DTSTART:20200308T080000
END:DAYLIGHT
BEGIN:STANDARD
TZOFFSETFROM:-0500
TZOFFSETTO:-0600
TZNAME:CST
DTSTART:20201101T070000
END:STANDARD
BEGIN:DAYLIGHT
TZOFFSETFROM:-0600
TZOFFSETTO:-0500
TZNAME:CDT
DTSTART:20210314T080000
END:DAYLIGHT
BEGIN:STANDARD
TZOFFSETFROM:-0500
TZOFFSETTO:-0600
TZNAME:CST
DTSTART:20211107T070000
END:STANDARD
END:VTIMEZONE
BEGIN:VEVENT
DTSTART;TZID=America/Chicago:20201002T190000
DTEND;TZID=America/Chicago:20201002T200000
DTSTAMP:20260423T000245
CREATED:20191209T171444Z
LAST-MODIFIED:20201106T035036Z
UID:17384-1601665200-1601668800@www.winewomenandshoes.com
SUMMARY:Springfield\, MO 2020
DESCRIPTION:Register Now!\nWe have free registration or options to purchase virtual watch parties! \n\nContact\nShelly Drymon\n417.863.7273 x112 \nemail\n\nBecome a Sponsor!\n\n \n\n\n  \nPresented by\n\n\n \n \nDiamond Sponsor\n  \n \n  \nGold Sponsors\n\n  \nDr. Nancy O’Reilly\nFamily Foundation\n\n\n  \nSponsors\n\n\n\n\n  \n\n  \n\n\n\n  \nMarketplace Partners\n  \n \n  \nWine Partners\n  \n \n\n\n\n\n  \n \n 
URL:https://www.winewomenandshoes.com/event/thevictimcenter2020/
LOCATION:Missouri
END:VEVENT
END:VCALENDAR