BEGIN:VCALENDAR
VERSION:2.0
PRODID:-//Wine Women &amp; Shoes - ECPv6.15.20//NONSGML v1.0//EN
CALSCALE:GREGORIAN
METHOD:PUBLISH
X-WR-CALNAME:Wine Women &amp; Shoes
X-ORIGINAL-URL:https://www.winewomenandshoes.com
X-WR-CALDESC:Events for Wine Women &amp; Shoes
REFRESH-INTERVAL;VALUE=DURATION:PT1H
X-Robots-Tag:noindex
X-PUBLISHED-TTL:PT1H
BEGIN:VTIMEZONE
TZID:America/Los_Angeles
BEGIN:DAYLIGHT
TZOFFSETFROM:-0800
TZOFFSETTO:-0700
TZNAME:PDT
DTSTART:20250309T100000
END:DAYLIGHT
BEGIN:STANDARD
TZOFFSETFROM:-0700
TZOFFSETTO:-0800
TZNAME:PST
DTSTART:20251102T090000
END:STANDARD
BEGIN:DAYLIGHT
TZOFFSETFROM:-0800
TZOFFSETTO:-0700
TZNAME:PDT
DTSTART:20260308T100000
END:DAYLIGHT
BEGIN:STANDARD
TZOFFSETFROM:-0700
TZOFFSETTO:-0800
TZNAME:PST
DTSTART:20261101T090000
END:STANDARD
BEGIN:DAYLIGHT
TZOFFSETFROM:-0800
TZOFFSETTO:-0700
TZNAME:PDT
DTSTART:20270314T100000
END:DAYLIGHT
BEGIN:STANDARD
TZOFFSETFROM:-0700
TZOFFSETTO:-0800
TZNAME:PST
DTSTART:20271107T090000
END:STANDARD
END:VTIMEZONE
BEGIN:VEVENT
DTSTART;TZID=America/Los_Angeles:20260924T180000
DTEND;TZID=America/Los_Angeles:20260924T213000
DTSTAMP:20260424T080255
CREATED:20250325T203813Z
LAST-MODIFIED:20260423T141045Z
UID:42914-1790272800-1790285400@www.winewomenandshoes.com
SUMMARY:Midland\, TX 2026
DESCRIPTION:Midland\, TX 2026
URL:https://www.winewomenandshoes.com/event/midland/
LOCATION:The Midland County Horseshoe Pavilion\, 2514 Arena Trail\, Midland\, TX\, 79706\, United States
END:VEVENT
BEGIN:VEVENT
DTSTART;TZID=America/Los_Angeles:20260926T110000
DTEND;TZID=America/Los_Angeles:20260926T150000
DTSTAMP:20260424T080255
CREATED:20250324T162222Z
LAST-MODIFIED:20260422T183913Z
UID:42841-1790420400-1790434800@www.winewomenandshoes.com
SUMMARY:Williamson County\, TX 2026
DESCRIPTION:Williamson County\, TX 2026\n\n\n\n\n\n\nSponsorship Opportunities\n\n\n\n\n\n\n\nPurchase a Sponsorship\n\n\n\n\n\n\n\nSupport Our Sole Men\n\n\n\n\n\n\n\n\n\n\n\n\n\n\n\n\n\n\nThank You to Our Sponsors\n\n\n\nTITLE SPONSOR\n\n\n\n\n\n\n\n\n\n\n\n\n\n\n\n\n\n\n\n\n\n\n\nGOLDEN HEELS SPONSOR\n\n\n\n\n\n\n\n\n\n\n\n\n\n\n\n\n\n\n\n\n\n\n\n\n\nSOLE MEN SPONSOR\n\n\n\n\n\n\n\n\n\n\n\n\n\n\n\nSWAG BAGS SPONSOR\n\n\n\n\n\n\n\n\n\n\n\n\n\nJoanne & Bill Harrah\n\n\n\n\n\n\n\n\n\nThank You to Our Marketplace Vendors\n\n\n\n\n\n\n\n\n\n\n\n\n\n\n\n\n\n\n\n\n\n\n\n\n\n\n\n\n\n\nFor questions\, please contact Wendy Prindle\, Community Engagement Manager\, CASA of Williamson County\, Texas. \n\n\n\nwendy.prindle@casawilco.org\, 512-658-2748
URL:https://www.winewomenandshoes.com/event/casawilco/
LOCATION:HighPointe Estate\, 5555 County Rd 258\, Liberty Hill\, Texas\, 78642\, United States
END:VEVENT
END:VCALENDAR