BEGIN:VCALENDAR
VERSION:2.0
PRODID:-//Wine Women &amp; Shoes - ECPv6.15.20//NONSGML v1.0//EN
CALSCALE:GREGORIAN
METHOD:PUBLISH
X-WR-CALNAME:Wine Women &amp; Shoes
X-ORIGINAL-URL:https://www.winewomenandshoes.com
X-WR-CALDESC:Events for Wine Women &amp; Shoes
REFRESH-INTERVAL;VALUE=DURATION:PT1H
X-Robots-Tag:noindex
X-PUBLISHED-TTL:PT1H
BEGIN:VTIMEZONE
TZID:America/Chicago
BEGIN:DAYLIGHT
TZOFFSETFROM:-0600
TZOFFSETTO:-0500
TZNAME:CDT
DTSTART:20160313T080000
END:DAYLIGHT
BEGIN:STANDARD
TZOFFSETFROM:-0500
TZOFFSETTO:-0600
TZNAME:CST
DTSTART:20161106T070000
END:STANDARD
BEGIN:DAYLIGHT
TZOFFSETFROM:-0600
TZOFFSETTO:-0500
TZNAME:CDT
DTSTART:20170312T080000
END:DAYLIGHT
BEGIN:STANDARD
TZOFFSETFROM:-0500
TZOFFSETTO:-0600
TZNAME:CST
DTSTART:20171105T070000
END:STANDARD
BEGIN:DAYLIGHT
TZOFFSETFROM:-0600
TZOFFSETTO:-0500
TZNAME:CDT
DTSTART:20180311T080000
END:DAYLIGHT
BEGIN:STANDARD
TZOFFSETFROM:-0500
TZOFFSETTO:-0600
TZNAME:CST
DTSTART:20181104T070000
END:STANDARD
END:VTIMEZONE
BEGIN:VEVENT
DTSTART;TZID=America/Chicago:20171117T180000
DTEND;TZID=America/Chicago:20171117T180000
DTSTAMP:20260422T035203
CREATED:20170227T191912Z
LAST-MODIFIED:20171201T043622Z
UID:4505-1510941600-1510941600@www.winewomenandshoes.com
SUMMARY:Madison\, WI 2017
DESCRIPTION:Event is sold out! \nJoin Wait List\n\n\ndonate\nSole Men\n/Sole Sister\n\nContact\nLiz Hill\n608.890.9957\nE-MAIL \n\nSponsorships and\nMore Information\nclick here  \n\n \n\nHosted by \n \n\nPlatinum Presenting Sponsor\n \n\nGold Sponsors\n  \n\n  \n\n  \n\n  \n\n \n\n\nSilver Sponsors\nAldo Partners\, LLC  •  Dr. and Mrs. Michael and Kim Bentz  •  Bunbury & Associates Realtors  •  David & Mary Anderson Family Foundation Inc.  •  National Guardian Life Insurance Company  •  North American Mechanical\, Inc. \n\nBronze Sponsors\nJ.H. Findorff & Son\, Inc.  •  JoAnn Martens DDS\, LLC  •  Middleton Ford  •  Smith & Gesteland \nSullivan designBUILD  •  Dr. and Mr. Lee and Nathan Wilke  •  Zimbrick Honda • M3 Insurance \n\nPrint Partner – AlphaGraphics Madison \n\nPop-Up Shops and Fashion Show Vendors\nArch  •  Cella’s Jewelry  •  Clarissa C  •  Gail Ambrosius Chocolatier  •  Just the 2 of Us Jewelry  •  Kendra Scott \nLuceo  •  Mes Amies Boutique  •  Neena  •  Pier South  •  Terese Zache  •  UW Health Transformations  •  Z Bella \nFair Indigo • La Lingerie • Title Nine \nSaveSaveSaveSave \nSaveSave \nSaveSave
URL:https://www.winewomenandshoes.com/event/madison2017/
LOCATION:Monona Terrace\, 1 John Nolen Dr\, Madison\, WI\, 53703\, United States
END:VEVENT
END:VCALENDAR